BEGIN:VCALENDAR
VERSION:2.0
PRODID:-//wp-events-plugin.com//7.2.2.1//EN
BEGIN:VEVENT
UID:124@beemer.com.br
DTSTART:20230812T110000Z
DTEND:20230812T210000Z
DTSTAMP:20230807T193617Z
URL:https://www.beemer.com.br/eventos/campos-do-jordao-parque-bambui/
SUMMARY:Campos do Jordão - Parque Bambui
DESCRIPTION:Passeio Vai&amp\;Volta - Grand Brasil e BeeMer\nParque Bambui -
  Restaurante Casa Bambui\n\n 	Comandas individuais\n 	Igresso de entrada n
 o parque R$ 20\,00 (pago no parque)\n
LOCATION:Parque Bambui\, R. Fausi Rachid\, 871 - Jardim Toriba\, Campos do 
 Jordão\, Brasil\, 12460-000\, Brasil
X-APPLE-STRUCTURED-LOCATION;VALUE=URI;X-ADDRESS=R. Fausi Rachid\, 871 - Jar
 dim Toriba\, Campos do Jordão\, Brasil\, 12460-000\, Brasil;X-APPLE-RADIU
 S=100;X-TITLE=Parque Bambui:geo:0,0
END:VEVENT
END:VCALENDAR